BEGIN:VCALENDAR
VERSION:2.0
PRODID:-//wp-events-plugin.com//7.2.3.1//EN
BEGIN:VEVENT
UID:183@grand-corbin-despagne.com
DTSTART:20190306T080000Z
DTEND:20190306T093000Z
DTSTAMP:20190315T132133Z
URL:https://www.grand-corbin-despagne.com/evenements/accueil-des-eleves-de
 -lecole-apprentis-sommeliers-sud-formation-beziers/
SUMMARY:Accueil des élèves de l’École Apprentis Sommeliers Sud Formati
 on Béziers
DESCRIPTION:
ATTACH;FMTTYPE=image/jpeg:https://www.grand-corbin-despagne.com/wp-content
 /uploads/2014/03/logo-GCD.jpg
CATEGORIES:Dégustation
END:VEVENT
END:VCALENDAR