BEGIN:VCALENDAR
VERSION:2.0
PRODID:-//wp-events-plugin.com//7.2.3.1//EN
BEGIN:VEVENT
UID:194@grand-corbin-despagne.com
DTSTART:20191001T100000Z
DTEND:20191001T140000Z
DTSTAMP:20190927T124304Z
URL:https://www.grand-corbin-despagne.com/evenements/accueil-de-lecole-fer
 randi-lecole-francaise-de-gastronomie-et-de-management-hotelier/
SUMMARY:Accueil de l’École Ferrandi : L’École Française de Gastronom
 ie et de Management Hôtelier
DESCRIPTION:Déjeuner au Château Grand Corbin-Despagne
ATTACH;FMTTYPE=image/jpeg:https://www.grand-corbin-despagne.com/wp-content
 /uploads/2014/03/logo-GCD1.jpg
CATEGORIES:Événement
END:VEVENT
END:VCALENDAR