BEGIN:VCALENDAR
VERSION:2.0
PRODID:-//wp-events-plugin.com//7.2.3.1//EN
BEGIN:VEVENT
UID:129@grand-corbin-despagne.com
DTSTART:20170429T083000Z
DTEND:20170429T113000Z
DTSTAMP:20170419T100545Z
URL:https://www.grand-corbin-despagne.com/evenements/884/
SUMMARY:Nouveauté ! Les ateliers dégustation au Château Grand Corbin-Des
 pagne
DESCRIPTION:A l’occasion des journées portes ouvertes de Saint Emilion\,
  le week-end du 1ier mai\, le Château Grand Corbin- Despagne inaugure ses
  premiers ateliers dégustation. Créés pour partager la passion du monde
  du vin\, ils livrent en 3 heures un tour d’horizon complet des vins de 
 Bordeaux à travers l’histoire et l’engagement environnemental de Gran
 d Corbin-Despagne.Animés par des personnes de la propriété diplômées 
 en œnologie\, ces ateliers sont bien plus qu’une séance d’œnologie 
 classique : c’est une invitation à découvrir les coulisses d’un gra
 nd Cru classé de Saint-Emilion élaboré selon les principes de l’agric
 ulture biologique par la famille Despagne\, propriétaire depuis plus de d
 eux siècles. Mêlant la théorie à la pratique\, les ateliers entraînen
 t le visiteur dans la fabuleuse histoire des vins et de Grand Corbin-Despa
 gne.Au programme :Visite du vignoble à travers la grande aventure de l
 ’agriculture biologique\,Découverte de l’élaboration des vins de la 
 propriété dans les chais\,Initiation aux saveurs et aux arômes subtilsD
 égustation à l’aveugle de deux cépages bordelais (Merlot et Cabernet
 -Franc) et réalisation de son propre assemblage. Ensuite\, pour percevoir
  les influences qu’ont sur les vins les variations climatiques et  le f
 il du temps\, il suivra deux types de dégustations :Une dégustation hor
 izontale d’un même millésime issu de 2 terroirs différents\, un Grand
  Vin et un Second VinUne dégustation verticale de de 3 millésimes de Gra
 nd Corbin-Despagne dont\, fait exceptionnel\, un millésime plus ancien :
  un millésime des années 2010\, un millésime des années 2000 et un mil
 lésime des années 90.En fin de parcours\, agrémenté de conseils de con
 servation et d’anecdotes\, chacun sera en mesure d’apprécier\, de com
 prendre et d’analyser les vins de Bordeaux en général et ceux de Grand
  Corbin-Despagne en particulier.A noter\, ces ateliers s’adressent aux p
 articuliers mais aussi aux groupes et aux entreprises ! Grand Corbin Desp
 agne conçoit des ateliers de dégustation sur mesure pour répondre au mi
 eux aux attentes des clients. Une expérience d’exception pour percer le
 s secrets les mieux gardés des vins et du Cru.
ATTACH;FMTTYPE=image/jpeg:https://www.grand-corbin-despagne.com/wp-content
 /uploads/2014/03/logo-GCD1.jpg
CATEGORIES:Événement
END:VEVENT
END:VCALENDAR